BEGIN:VCALENDAR
VERSION:2.0
PRODID:-//TSS Agents - ECPv6.15.17.1//NONSGML v1.0//EN
CALSCALE:GREGORIAN
METHOD:PUBLISH
X-WR-CALNAME:TSS Agents
X-ORIGINAL-URL:https://www.tssagents.com
X-WR-CALDESC:Events for TSS Agents
REFRESH-INTERVAL;VALUE=DURATION:PT1H
X-Robots-Tag:noindex
X-PUBLISHED-TTL:PT1H
BEGIN:VTIMEZONE
TZID:UTC
BEGIN:STANDARD
TZOFFSETFROM:+0000
TZOFFSETTO:+0000
TZNAME:UTC
DTSTART:20240101T000000
END:STANDARD
END:VTIMEZONE
BEGIN:VEVENT
DTSTART;TZID=UTC:20250626T150000
DTEND;TZID=UTC:20250626T160000
DTSTAMP:20260424T161339
CREATED:20250619T223552Z
LAST-MODIFIED:20250620T190857Z
UID:4001-1750950000-1750953600@www.tssagents.com
SUMMARY:Market Disruption Series - 2025 Medicare Market Update!
DESCRIPTION:Date & Time\n\nJun 26\, 2025 03:00 PM in Central Time (US and Canada)\n\n\n\n\n\nDescription\n\nFollowing the massive success of our May webinar\, we’re excited to bring you another dynamic session on June 26\, 2025\, at 4:00 PM Eastern! Your incredible feedback and record-breaking attendance last time inspired us to make this event even bigger\, incorporating your top suggestions for a must-attend reunion. Join us for the 2025 Medicare Market Update & AEP Strategies\, where we’ll explore the latest in Medicare Advantage\, PDP\, and Medicare Supplement markets to help you dominate AEP 2025. Here’s what’s on deck:\n• Market Disruptions Decoded: Navigate the latest regulatory changes impacting the MAPD landscape and leverage them for success.\n• AEP 2026 Preview: Gain early insights and proven strategies to stay ahead of the competition.\n• Medicare Supplement Focus: Address recent carrier rate hikes and learn how to guide your clients through these changes.\n\nOur previous sessions were a hit\, with agents raving about the practical insights that drove their AEP wins. This time\, we’re bringing even more actionable strategies to help you lead the market in 2025. Spots are limited\, so act fast!\n\nRegister now for June 26\, 2025\, at 4:00 PM Eastern Time and make this reunion a game-changer. Secure your spot today!
URL:https://www.tssagents.com/event/market-disruption-series-2025-medicare-market-update/
LOCATION:Webinar
END:VEVENT
BEGIN:VEVENT
DTSTART;TZID=UTC:20250626T140000
DTEND;TZID=UTC:20250626T150000
DTSTAMP:20260424T161339
CREATED:20250619T223551Z
LAST-MODIFIED:20250620T190902Z
UID:4000-1750946400-1750950000@www.tssagents.com
SUMMARY:The INA Med Supp Showcase
DESCRIPTION:Date & Time\n\nJun 26\, 2025 02:00 PM in Central Time (US and Canada)\n\n\n\n\n\nDescription\n\nThe INA Medicare Supplement is coming!\n\nCHUBB…the same CHUBB that brought you the ACE Medicare supplement introduces a new charter and the buzz is building -.\n\nIf you’re looking to pump some new blood into your Med Supp portfolio (and aren’t we all!?) then look no further…\n\nWe’re so excited for the launch of this exciting\, new Medicare Supplement from INA – and we can’t wait to see what amazing things we can accomplish together with products like this\, and your entire suite of INTEGRITY PROPRIETARY PRODUCTS on our side! –
URL:https://www.tssagents.com/event/the-ina-med-supp-showcase/
LOCATION:Webinar
END:VEVENT
BEGIN:VEVENT
DTSTART;TZID=UTC:20250625T140000
DTEND;TZID=UTC:20250625T150000
DTSTAMP:20260424T161339
CREATED:20250619T223605Z
LAST-MODIFIED:20250620T190908Z
UID:4002-1750860000-1750863600@www.tssagents.com
SUMMARY:The Cigna Med Supp Showcase
DESCRIPTION:Date & Time\n\nJun 25\, 2025 02:00 PM in Central Time (US and Canada)\n\n\n\n\n\nDescription\n\nCIGNA’s Medicare Supplement is here to give agents a real advantage in the field!\n\nThis year ‘going the extra mile’ is the name of the game…new strategies\, tools\, and product lines are front and center.\n\nAgents are learning more & more the importance of being extra well-prepared & equipped with an especially well stocked portfolio.\n\nNow\, we’re throwing fuel on the fire with an all-new webinar that offers agents a fast-track to confidently selling one of the biggest products in the industry – the CIGNA Med Supp!\n\nWe recently welcomed this product to the INTEGRITY Med Supp menu as a preferred carrier\, and so we’re excited to host this new training in collaboration with CIGNA’s Jason Yoo – CIGNA’s VP of Broker Sales.\n\nA SHORT WEBINAR to get informed.\nAN EASY CONTRACTING PROCESS to get appointed.\n\nThat’s all it takes to give yourself & your agents a boost at Half-Time that could help propel them to a huge win this AEP and beyond!
URL:https://www.tssagents.com/event/the-cigna-med-supp-showcase/
LOCATION:Webinar
END:VEVENT
BEGIN:VEVENT
DTSTART;TZID=UTC:20250623T140000
DTEND;TZID=UTC:20250623T150000
DTSTAMP:20260424T161339
CREATED:20250619T223605Z
LAST-MODIFIED:20250620T190913Z
UID:4003-1750687200-1750690800@www.tssagents.com
SUMMARY:The WELLABE Med Supp Showcase
DESCRIPTION:Date & Time\n\nJun 23\, 2025 02:00 PM in Central Time (US and Canada)\n\n\n\n\n\nDescription\n\nJoin us for an exclusive Wellabe Webinar as we take you on a journey through our rich 95-year history\, a legacy of excellence in healthcare.\n\nDiscover how our enduring commitment to senior clients has made us a trusted name in the industry.\n\nThe newly rebranded WELLABE Medicare Supplement means competitive rates\, strong agent support\, and outstanding customer service…and that’s not all…\n\nIn this webinar\, we will unveil our latest breakthrough – an unparalleled Short Term Care product designed to bridge the gaps in coverage for your senior clients.\n\nLearn how it can provide them with the comprehensive care they deserve.\n\nWellabe’s unique pricing model sets us apart in the Medicare supplement landscape.\n\nWe’ll delve into the details and show you how our pricing benefits both agents and clients alike.\n\nDon’t miss this opportunity to explore the evolution of Wellabe and our dedication to meeting the diverse needs of your clients.\n\nJoin us and ensure your Medicare Supplement Tool Kit is truly complete with Wellabe.
URL:https://www.tssagents.com/event/the-wellabe-med-supp-showcase/
LOCATION:Webinar
END:VEVENT
END:VCALENDAR