BEGIN:VCALENDAR
VERSION:2.0
PRODID:-//TSS Agents - ECPv6.15.17.1//NONSGML v1.0//EN
CALSCALE:GREGORIAN
METHOD:PUBLISH
X-ORIGINAL-URL:https://www.tssagents.com
X-WR-CALDESC:Events for TSS Agents
REFRESH-INTERVAL;VALUE=DURATION:PT1H
X-Robots-Tag:noindex
X-PUBLISHED-TTL:PT1H
BEGIN:VTIMEZONE
TZID:UTC
BEGIN:STANDARD
TZOFFSETFROM:+0000
TZOFFSETTO:+0000
TZNAME:UTC
DTSTART:20250101T000000
END:STANDARD
END:VTIMEZONE
BEGIN:VEVENT
DTSTART;TZID=UTC:20260512T120000
DTEND;TZID=UTC:20260512T130000
DTSTAMP:20260424T213647
CREATED:20260424T202019Z
LAST-MODIFIED:20260424T202019Z
UID:4913-1778587200-1778590800@www.tssagents.com
SUMMARY:Mastering the Mystery of Med Supp - Part 1
DESCRIPTION:When \nTuesday\, May 12\, 2026 · 12:00 p.m. Central Time (US & Canada) \n\nAbout \n\nAre you new to the world of Medicare Supplements? \nJoin us as we embark on a journey to uncover the compelling reasons behind why 1 in 3 clients are embracing the power of Medicare Supplements. \nIt’s time to tap into the immense potential of this series and supercharge your Medicare Supplement knowledge. \nLearn the secrets behind why one-third of clients are seizing the opportunity with Medicare Supplement coverage. \nMedicare Supplements\, or Medigap plans\, are the missing puzzle piece that completes your Medicare coverage\, elevating it to new heights. In this exclusive event\, we will guide you through the compelling reasons why these plans have always been an absolute must-have for anyone seeking optimal protection and peace of mind. \nJoin us as we delve deep into the realm of Medicare Supplements\, revealing the extraordinary advantages that await your clients.
URL:https://www.tssagents.com/event/mastering-the-mystery-of-med-supp-part-1-5/
LOCATION:Webinar
END:VEVENT
BEGIN:VEVENT
DTSTART;TZID=UTC:20260512T140000
DTEND;TZID=UTC:20260512T150000
DTSTAMP:20260424T213647
CREATED:20260424T202516Z
LAST-MODIFIED:20260424T202516Z
UID:4916-1778594400-1778598000@www.tssagents.com
SUMMARY:Plan N
DESCRIPTION:When\n\n\nTuesday\, May 12\, 2026 · 2:00 p.m. Central Time\n\n\n\n\n\n\n\n\nAbout\n\nUnlock Your Potential with “Plan N for the Win” – A Can’t-Miss Webinar Event! \nIn a world where every challenge is an opportunity for growth\, it’s time to elevate your strategy with Medicare Supplement Plan N. Join us for an exclusive webinar\, “Plan N for the Win\,” and discover how to transform obstacles into victories. With agents already harnessing the power of Plan N\, don’t miss your chance to get ahead. \nKey Highlights: \n\n• Understand Plan N: Dive deep into the lower cost\, cost-sharing benefits of Plan N\, a plan the market desires. \n• History Lesson: Learn from the transition from Plan F to Plan G and how early adopters gained an edge. \n• Plan N Advantages Today: Increased commissions\, lower premiums\, and strategic co-pays make Plan N a triple win for clients\, agents\, and carriers. \n• Future Focused: Explore how Plan N’s current success is just the beginning of its growth potential. \n\nSeize the moment to redefine your approach and secure a prosperous future. Plan N is not just a choice; it’s a strategic advantage for those ready to lead. Join us to create your future\, leverage untapped markets\, and build lasting relationships with your clients. “Plan N for the Win” is your opportunity to unlock unparalleled success. Reserve your spot now and be part of the winning team.
URL:https://www.tssagents.com/event/plan-n/
LOCATION:Webinar
END:VEVENT
BEGIN:VEVENT
DTSTART;TZID=UTC:20260513T120000
DTEND;TZID=UTC:20260513T130000
DTSTAMP:20260424T213647
CREATED:20260424T202829Z
LAST-MODIFIED:20260424T202829Z
UID:4918-1778673600-1778677200@www.tssagents.com
SUMMARY:Perfecting Your Client Needs Assessment
DESCRIPTION:When\n\n\nWednesday\, May 13\, 2026 · 12:00 p.m. Central Time\n\n\n\n\n\nAbout\n\nTake better care of your clients by unlocking the power of a Client Needs Assessment. \nJoin us for an exclusive webinar that will empower you to enhance your insurance career and prioritize your clients like never before. Discover the secret to success by incorporating a Client Needs Assessment (CNA) into your toolkit\, ultimately boosting your ancillary sales. \nDuring this session\, we will delve into: \n– Unlocking the Power of a Successful CNA\n– Essential Information to Seek\n– Proven Sample Questions\n– Uncovering Client Needs Effectively\n– The Key Ingredients for Success\n\nSecure your spot and save the date for this invaluable information showcase. \nRegister now to transform your insurance practice!
URL:https://www.tssagents.com/event/perfecting-your-client-needs-assessment-3/
LOCATION:Webinar
END:VEVENT
BEGIN:VEVENT
DTSTART;TZID=UTC:20260513T140000
DTEND;TZID=UTC:20260513T150000
DTSTAMP:20260424T213647
CREATED:20260424T203357Z
LAST-MODIFIED:20260424T203357Z
UID:4920-1778680800-1778684400@www.tssagents.com
SUMMARY:Manhattan Life Med Supp Showcase
DESCRIPTION:When\n\n\nWednesday\, May 13\, 2026 · 2:00 p.m. Central Time\n\n\n\n\n\nAbout\n\nExploring the Continued Relevance of Medicare Supplement with MAC. \nJoin us for a webinar on the importance of Medicare Supplement in today’s market\, featuring insights from Manhattan Assurance Company (MAC). \nKnown for its competitive pricing nationwide and a streamlined application process\, MAC stands out in the industry.\nEstablished in 1850\, MAC’s longstanding reputation as one of the oldest and most dependable companies is a testament to its reliability and expertise. \nKey Highlights: \n\n– Uncover the benefits of Manhattan Life’s exceptional Medicare Supplement plans. \n– Introduction to MAC’s latest offering: a cutting-edge Short Term \n\nCare product\, set to revolutionize Longevity Health Planning. This eagerly awaited addition promises significant impacts on the industry. \nAttend this webinar to gain valuable insights and expand your offerings with MAC’s innovative solutions.
URL:https://www.tssagents.com/event/manhattan-life-med-supp-showcase-3/
LOCATION:Webinar
END:VEVENT
BEGIN:VEVENT
DTSTART;TZID=UTC:20260514T090000
DTEND;TZID=UTC:20260514T100000
DTSTAMP:20260424T213647
CREATED:20260424T204045Z
LAST-MODIFIED:20260424T204045Z
UID:4922-1778749200-1778752800@www.tssagents.com
SUMMARY:WoodmenLife Med Supp Showcase
DESCRIPTION:When\n\n\nThursday\, May 14\, 2026 · 9:00 a.m. Central Time\n\n\n\n\n\nAbout\n\nGet ready to explore WoodmenLife’s New Medicare Supplement Plans! \nWe’re thrilled to introduce WoodmenLife’s latest Medicare Supplement plans\, designed to enhance the value you provide to your clients! \nKey Information about WoodmenLife’s Medicare Supplements: \n– A+ (Superior) Rating from AM BEST\n– A+ Rating from the Better Business Bureau\n– 10% Household Discount\n– Highly Competitive Rates\n– Streamlined eApp Process\n– Attractive Agent Incentives\n\nEnhanced Client Benefits:\n– Access to Online Legal Templates\n– Exclusive Retail Discounts\n– Financial Assistance for Natural Disasters\n– $25\,000 Coverage for Families of First Responder Members\n– Exciting Community Volunteer Opportunities\n\nRegister today to offer outstanding value to your clients through WoodmenLife’s new Med Supp plans.
URL:https://www.tssagents.com/event/woodmenlife-med-supp-showcase-2/
LOCATION:Webinar
END:VEVENT
BEGIN:VEVENT
DTSTART;TZID=UTC:20260519T140000
DTEND;TZID=UTC:20260519T150000
DTSTAMP:20260424T213647
CREATED:20260424T204455Z
LAST-MODIFIED:20260424T204455Z
UID:4924-1779199200-1779202800@www.tssagents.com
SUMMARY:The AHL IdealFlex Hospital Indemnity Showcase
DESCRIPTION:When\n\n\nTuesday\, May 19\, 2026 · 2:00 p.m. Central Time\n\n\n\n\n\nAbout\n\nAmerican Home Life IdealFlex Series Hospital Indemnity:\n• AHL’s HI provides incredible cross-selling/retention opportunity\n• Simple and streamlined instant decision Eapp process\n• More base benefits than any product on the market\n• 10 rider options to tailor the plan to the client’s very specific needs\n• Industry leading agent commissions/Incentives
URL:https://www.tssagents.com/event/the-ahl-idealflex-hospital-indemnity-showcase/
LOCATION:Webinar
END:VEVENT
BEGIN:VEVENT
DTSTART;TZID=UTC:20260526T120000
DTEND;TZID=UTC:20260526T130000
DTSTAMP:20260424T213647
CREATED:20260424T205028Z
LAST-MODIFIED:20260424T205028Z
UID:4926-1779796800-1779800400@www.tssagents.com
SUMMARY:Master the Mechanics of High-Deductible G
DESCRIPTION:When \nTuesday\, May 26\, 2026 · 12:00 p.m. Central Time \n\nAbout \nDiscover why High-Deductible Medicare Supplement Plan G (HD Plan G) is an often-overlooked\, high-value option—offering near-identical coverage to standard Plan G at significantly lower premiums\, ideal for healthy clients or areas with limited Medicare Advantage plans. \nKey Highlights \nMechanics of High-Deductible Plan G – How it mirrors standard Plan G benefits but activates only after meeting the annual high deductible\, delivering substantial premium savings with strong catastrophic protection. \nPositioning Ancillary Products – Proven strategies to layer dental\, vision\, hearing\, hospital indemnity\, and other ancillary plans to close remaining gaps and boost client satisfaction. \n10-Year Real-World Examples – Hypothetical client scenarios showing low-\, moderate-\, and high-utilization outcomes—highlighting premium savings\, break-even points\, and long-term cost predictability. \nWhy This Matters – High-Deductible Plan G shines where MAPD options are slim or unavailable\, providing nationwide flexibility with Original Medicare at a fraction of standard Plan G costs. Join us to master this powerful tool and better serve your clients. \nRegister today!
URL:https://www.tssagents.com/event/master-the-mechanics-of-high-deductible-g-2/
LOCATION:Webinar
END:VEVENT
END:VCALENDAR