BEGIN:VCALENDAR
VERSION:2.0
PRODID:-//TSS Agents - ECPv6.15.17.1//NONSGML v1.0//EN
CALSCALE:GREGORIAN
METHOD:PUBLISH
X-ORIGINAL-URL:https://www.tssagents.com
X-WR-CALDESC:Events for TSS Agents
REFRESH-INTERVAL;VALUE=DURATION:PT1H
X-Robots-Tag:noindex
X-PUBLISHED-TTL:PT1H
BEGIN:VTIMEZONE
TZID:UTC
BEGIN:STANDARD
TZOFFSETFROM:+0000
TZOFFSETTO:+0000
TZNAME:UTC
DTSTART:20250101T000000
END:STANDARD
END:VTIMEZONE
BEGIN:VEVENT
DTSTART;TZID=UTC:20260430T100000
DTEND;TZID=UTC:20260430T110000
DTSTAMP:20260424T094241
CREATED:20260417T175223Z
LAST-MODIFIED:20260417T175223Z
UID:4895-1777543200-1777546800@www.tssagents.com
SUMMARY:Queen of the Bundle: Building Packages of Protection your clients actually NEED with NECESSARY PRODUCTS
DESCRIPTION:When\n\n\nThursday\, April 30\, 2026 · 10:00 a.m. Central Time\n\n\n\n\nAbout\n\n\nHow to use “Spouse in the House” \nQuit being frustrated over commission cuts and learn to build a solid foundation.
URL:https://www.tssagents.com/event/queen-of-the-bundle-building-packages-of-protection-your-clients-actually-need-with-necessary-products-2/
LOCATION:Webinar
END:VEVENT
BEGIN:VEVENT
DTSTART;TZID=UTC:20260430T120000
DTEND;TZID=UTC:20260430T130000
DTSTAMP:20260424T094241
CREATED:20260417T175535Z
LAST-MODIFIED:20260417T175535Z
UID:4897-1777550400-1777554000@www.tssagents.com
SUMMARY:AHL IdealFlex HI Webinar
DESCRIPTION:When \nThursday\, April 30\, 2026 · 12:00 p.m. Central Time\n\n\n\nAbout\nAmerican Home Life IdealFlex Series Hospital Indemnity:\n• AHL’s HI provides incredible cross-selling/retention opportunity\n• Simple and streamlined instant decision Eapp process\n• More base benefits than any product on the market\n• 10 rider options to tailor the plan to the client’s very specific needs\n• Industry leading agent commissions/Incentives
URL:https://www.tssagents.com/event/ahl-idealflex-hi-webinar/
LOCATION:Webinar
END:VEVENT
BEGIN:VEVENT
DTSTART;TZID=UTC:20260430T120000
DTEND;TZID=UTC:20260430T130000
DTSTAMP:20260424T094241
CREATED:20260417T175814Z
LAST-MODIFIED:20260417T175814Z
UID:4899-1777550400-1777554000@www.tssagents.com
SUMMARY:United Healthcare - AdvantageGuard
DESCRIPTION:When\n\n\nThursday\, April 30\, 2026 · 12:00 p.m. Central Time \n\n\n\n\n\nAbout\n\nWith AEP behind us\, many seniors may not realize their Medicare Advantage or Supplement plan could still leave them with unexpected medical expenses.\nFor those on a fixed income\, even one hospital stay can force difficult choices between essential needs like groceries or utilities. Rising healthcare costs and out-of-pocket expenses—such as hospital copays and skilled nursing fees—can quickly erode the savings they’ve worked a lifetime to build.\nYour clients need solutions\, and UnitedHealthcare delivers.\nAs the largest health insurance carrier in the U.S.\, rated A+ Superior by AM Best\, UnitedHealthcare offers innovative options through its Golden Rule (UnitedHealthOne) division\, backed by more than 80 years of experience in the individual market.\nJoin our exclusive webinar to explore three valuable solutions:\n• AdvantageGuard – Hospital indemnity coverage\n• AccidentWise – Accident protection\n• CriticalGuard – Critical illness coverage\nThese plans offer guaranteed issue coverage\, helping you provide peace of mind for your clients—while maximizing competitive commissions and bonus opportunities.
URL:https://www.tssagents.com/event/united-healthcare-advantageguard/
LOCATION:Webinar
END:VEVENT
END:VCALENDAR