BEGIN:VCALENDAR
VERSION:2.0
PRODID:-//TSS Agents - ECPv6.15.17.1//NONSGML v1.0//EN
CALSCALE:GREGORIAN
METHOD:PUBLISH
X-WR-CALNAME:TSS Agents
X-ORIGINAL-URL:https://www.tssagents.com
X-WR-CALDESC:Events for TSS Agents
REFRESH-INTERVAL;VALUE=DURATION:PT1H
X-Robots-Tag:noindex
X-PUBLISHED-TTL:PT1H
BEGIN:VTIMEZONE
TZID:UTC
BEGIN:STANDARD
TZOFFSETFROM:+0000
TZOFFSETTO:+0000
TZNAME:UTC
DTSTART:20250101T000000
END:STANDARD
END:VTIMEZONE
BEGIN:VEVENT
DTSTART;TZID=UTC:20260429T120000
DTEND;TZID=UTC:20260429T130000
DTSTAMP:20260424T081736
CREATED:20260417T174939Z
LAST-MODIFIED:20260417T174939Z
UID:4893-1777464000-1777467600@www.tssagents.com
SUMMARY:UnitedHealthOne - ACA Alternatives
DESCRIPTION:When \nWednesday\, April 29\, 2026 · 12:00 p.m. Central Time\n\n\n\nAbout\n\nThe ACA market is facing significant challenges—expiring subsidies\, rising rates\, and potential enrollment declines. Your clients need solutions\, and UnitedHealthcare delivers.\nAs the largest health insurance carrier in the U.S.\, rated A+ Superior by AM Best\, UnitedHealthcare offers innovative alternatives through its Golden Rule (UnitedHealthOne) division\, backed by more than 80 years of experience in the individual market.\nJoin our exclusive webinar to explore three powerful ACA alternative options:\n• TriTerm Medical – 3-year coverage\n• Short Term Medical – Up to 1-year in most states\n• Health ProtectorGuard – The powerhouse of fixed benefit plans\nThese plans feature simplified underwriting and access to the nation’s largest provider network. For brokers\, this means delivering valuable options during a challenging time—while maximizing competitive commissions and bonus opportunities. \nReserve your spot today!
URL:https://www.tssagents.com/event/unitedhealthone-aca-alternatives/
LOCATION:Webinar
END:VEVENT
END:VCALENDAR