BEGIN:VCALENDAR
VERSION:2.0
PRODID:-//TSS Agents - ECPv6.15.17.1//NONSGML v1.0//EN
CALSCALE:GREGORIAN
METHOD:PUBLISH
X-ORIGINAL-URL:https://www.tssagents.com
X-WR-CALDESC:Events for TSS Agents
REFRESH-INTERVAL;VALUE=DURATION:PT1H
X-Robots-Tag:noindex
X-PUBLISHED-TTL:PT1H
BEGIN:VTIMEZONE
TZID:UTC
BEGIN:STANDARD
TZOFFSETFROM:+0000
TZOFFSETTO:+0000
TZNAME:UTC
DTSTART:20250101T000000
END:STANDARD
END:VTIMEZONE
BEGIN:VEVENT
DTSTART;TZID=UTC:20260428T100000
DTEND;TZID=UTC:20260428T103000
DTSTAMP:20260424T065535
CREATED:20260417T173808Z
LAST-MODIFIED:20260417T173808Z
UID:4887-1777370400-1777372200@www.tssagents.com
SUMMARY:Manhattan Life Med Supp Showcase
DESCRIPTION:When\nTuesday\, April 28\, 2026 · 10:00 a.m. Central Time\n\n\n\nAbout\nExploring the Continued Relevance of Medicare Supplement with MAC. \nJoin us for a webinar on the importance of Medicare Supplement in today’s market\, featuring insights from Manhattan Assurance Company (MAC). \nKnown for its competitive pricing nationwide and a streamlined application process\, MAC stands out in the industry.\nEstablished in 1850\, MAC’s longstanding reputation as one of the oldest and most dependable companies is a testament to its reliability and expertise. \nKey Highlights: \n– Uncover the benefits of Manhattan Life’s exceptional Medicare Supplement plans. \n– Introduction to MAC’s latest offering: a cutting-edge Short Term \nCare product\, set to revolutionize Longevity Health Planning. This eagerly awaited addition promises significant impacts on the industry. \nAttend this webinar to gain valuable insights and expand your offerings with MAC’s innovative solutions.
URL:https://www.tssagents.com/event/manhattan-life-med-supp-showcase-2/
LOCATION:Webinar
END:VEVENT
BEGIN:VEVENT
DTSTART;TZID=UTC:20260428T130000
DTEND;TZID=UTC:20260428T140000
DTSTAMP:20260424T065535
CREATED:20260417T174415Z
LAST-MODIFIED:20260417T174415Z
UID:4889-1777381200-1777384800@www.tssagents.com
SUMMARY:Wellabe Med Supp Showcase
DESCRIPTION:When\n\n\nTuesday\, April 28\, 2026 · 1:00 p.m. Central Time\n\n\n\n\n\nAbout\n\nJoin us for an exclusive Wellabe Webinar as we take you on a journey through our rich 95-year history\, a legacy of excellence in healthcare. Discover how our enduring commitment to senior clients has made us a trusted name in the industry. \nThe rebranded WELLABE Medicare Supplement means competitive rates\, strong agent support\, and outstanding customer service…and that’s not all… \nIn this webinar\, we will unveil our latest breakthrough – an unparalleled Short Term Care product designed to bridge the gaps in coverage for your senior clients. Learn how it can provide them with the comprehensive care they deserve. \nWellabe’s unique pricing model sets us apart in the Medicare supplement landscape. We’ll delve into the details and show you how our pricing benefits both agents and clients alike. \nDon’t miss this opportunity to explore the evolution of Wellabe and our dedication to meeting the diverse needs of your clients. \nJoin us and ensure your Medicare Supplement Tool Kit is truly complete with Wellabe.
URL:https://www.tssagents.com/event/wellabe-med-supp-showcase-2/
LOCATION:Webinar
END:VEVENT
BEGIN:VEVENT
DTSTART;TZID=UTC:20260428T130000
DTEND;TZID=UTC:20260428T140000
DTSTAMP:20260424T065535
CREATED:20260417T174744Z
LAST-MODIFIED:20260417T174744Z
UID:4891-1777381200-1777384800@www.tssagents.com
SUMMARY:Introducing The Senior Market Signal - Formerly: Market Disruptions
DESCRIPTION:When \nTuesday\, April 28\, 2026 · 1:00 p.m. Central Time\n\n\nAbout\nMarket Disruptions is officially relaunching as ☐ The Senior Market Signal: Cutting Through the Noise. Same straight-talk format. Same commitment to real market intelligence with no fluff and no carrier cheerleading. A new name that finally says exactly what this series has always delivered. \nMonthly sessions run April through December — keeping your agents informed\, prepared\, and ahead of every major market shift leading straight into AEP. ☐ \nWHAT YOUR AGENTS GET EVERY SESSION \nMAPD & PDP Market Shifts — What’s moving\, why it matters\, what to do about it \nRegulatory Updates & CMS Developments — Plain-language breakdowns agents can actually use \nFinal Rule Implications — Connected to real-world impact on your agents’ books \nThe Med Supp and Ancillary Moment — One focused topic agents can use with clients immediately \nSignal to Action — Concrete moves to execute before the next session \nLive Q&A — Real questions\, real answers
URL:https://www.tssagents.com/event/introducing-the-senior-market-signal-formerly-market-disruptions/
END:VEVENT
END:VCALENDAR