BEGIN:VCALENDAR
VERSION:2.0
PRODID:-//TSS Agents - ECPv6.15.17.1//NONSGML v1.0//EN
CALSCALE:GREGORIAN
METHOD:PUBLISH
X-ORIGINAL-URL:https://www.tssagents.com
X-WR-CALDESC:Events for TSS Agents
REFRESH-INTERVAL;VALUE=DURATION:PT1H
X-Robots-Tag:noindex
X-PUBLISHED-TTL:PT1H
BEGIN:VTIMEZONE
TZID:UTC
BEGIN:STANDARD
TZOFFSETFROM:+0000
TZOFFSETTO:+0000
TZNAME:UTC
DTSTART:20250101T000000
END:STANDARD
END:VTIMEZONE
BEGIN:VEVENT
DTSTART;TZID=UTC:20260427T140000
DTEND;TZID=UTC:20260427T150000
DTSTAMP:20260424T052433
CREATED:20260417T172516Z
LAST-MODIFIED:20260417T172516Z
UID:4883-1777298400-1777302000@www.tssagents.com
SUMMARY:The UHC One - Quote & Enroll
DESCRIPTION:When\n\n\nMonday\, April 27\, 2026 · 2:00 p.m. Central Time \n\n\n\n\n\nAbout\n\nUnitedHealthcare – Golden Rule (UnitedHealthOne) is rated A+ (Superior) by AM Best and brings more than 80 years of personal insurance experience. They offer a comprehensive portfolio of ACA alternative solutions and ancillary products tailored to both the under 65 and over 65 markets.\nTheir broker portal serves as a robust\, one stop resource for quoting\, enrollment\, product materials\, pre recorded webinars\, marketing flyers\, and more. \nQuote & Enroll Portal Highlights\n• One click access to quoting\n• Simple side by side product comparisons\n• Bundle functionality that allows multiple plans to be submitted on a single application\n• Security Question Pathway\, enabling brokers to complete applications on behalf of clients—saving valuable time and allowing you to meet with more prospects \nJoin us to learn how this platform can streamline your workflow\, expand your sales opportunities\, and help you maximize competitive commissions and bonus programs.
URL:https://www.tssagents.com/event/the-uhc-one-quote-enroll/
LOCATION:Webinar
END:VEVENT
END:VCALENDAR