BEGIN:VCALENDAR
VERSION:2.0
PRODID:-//TSS Agents - ECPv6.15.17.1//NONSGML v1.0//EN
CALSCALE:GREGORIAN
METHOD:PUBLISH
X-WR-CALNAME:TSS Agents
X-ORIGINAL-URL:https://www.tssagents.com
X-WR-CALDESC:Events for TSS Agents
REFRESH-INTERVAL;VALUE=DURATION:PT1H
X-Robots-Tag:noindex
X-PUBLISHED-TTL:PT1H
BEGIN:VTIMEZONE
TZID:UTC
BEGIN:STANDARD
TZOFFSETFROM:+0000
TZOFFSETTO:+0000
TZNAME:UTC
DTSTART:20250101T000000
END:STANDARD
END:VTIMEZONE
BEGIN:VEVENT
DTSTART;TZID=UTC:20260407T120000
DTEND;TZID=UTC:20260407T130000
DTSTAMP:20260425T031722
CREATED:20260402T213214Z
LAST-MODIFIED:20260402T213214Z
UID:4862-1775563200-1775566800@www.tssagents.com
SUMMARY:Plan N For The Win!
DESCRIPTION:When\n\n\nTuesday\, April 7\, 2026 · 12:00 p.m. Central Time (US & Canada)\n\n\n\n\n\nAbout\n\nUnlock Your Potential with “Plan N for the Win” – A Can’t-Miss Webinar Event! \nIn a world where every challenge is an opportunity for growth\, it’s time to elevate your strategy with Medicare Supplement Plan N. Join us for an exclusive webinar\, “Plan N for the Win\,” and discover how to transform obstacles into victories. With agents already harnessing the power of Plan N\, don’t miss your chance to get ahead. \nKey Highlights: \n\nUnderstand Plan N: Dive deep into the lower cost\, cost-sharing benefits of Plan N\, a plan the market desires.\nHistory Lesson: Learn from the transition from Plan F to Plan G and how early adopters gained an edge.\nPlan N Advantages Today: Increased commissions\, lower premiums\, and strategic co-pays make Plan N a triple win for clients\, agents\, and carriers.\nFuture Focused: Explore how Plan N’s current success is just the beginning of its growth potential.\n\n\nSeize the moment to redefine your approach and secure a prosperous future. Plan N is not just a choice; it’s a strategic advantage for those ready to lead. Join us to create your future\, leverage untapped markets\, and build lasting relationships with your clients. “Plan N for the Win” is your opportunity to unlock unparalleled success. Reserve your spot now and be part of the winning team.
URL:https://www.tssagents.com/event/plan-n-for-the-win-5/
LOCATION:Webinar
END:VEVENT
BEGIN:VEVENT
DTSTART;TZID=UTC:20260407T130000
DTEND;TZID=UTC:20260407T140000
DTSTAMP:20260425T031722
CREATED:20260402T214617Z
LAST-MODIFIED:20260402T214617Z
UID:4865-1775566800-1775570400@www.tssagents.com
SUMMARY:HealthSpring Med Supp Showcase
DESCRIPTION:When\n\n\nTuesday\, April 7\, 2026 · 1:00 p.m. Central Time (US & Canada) \n\n\n\n\n\nAbout\n\nCIGNA’s Medicare Supplement is here to give agents a real advantage in the field! \nThis year ‘going the extra mile’ is the name of the game…new strategies\, tools\, and product lines are front and center. \nAgents are learning more & more the importance of being extra well-prepared & equipped with an especially well stocked portfolio. \nNow\, we’re throwing fuel on the fire with an all-new webinar that offers agents a fast-track to confidently selling one of the biggest products in the industry – the CIGNA Med Supp! \nA SHORT WEBINAR to get informed.\nAN EASY CONTRACTING PROCESS to get appointed. \nThat’s all it takes to give yourself & your agents a boost at Half-Time that could help propel them to a huge win this AEP and beyond!
URL:https://www.tssagents.com/event/healthspring-med-supp-showcase-2/
LOCATION:Webinar
END:VEVENT
BEGIN:VEVENT
DTSTART;TZID=UTC:20260407T140000
DTEND;TZID=UTC:20260407T150000
DTSTAMP:20260425T031722
CREATED:20260402T215257Z
LAST-MODIFIED:20260402T215257Z
UID:4867-1775570400-1775574000@www.tssagents.com
SUMMARY:Client Needs Assessment
DESCRIPTION:When\n\n\nTuesday\, April 7\, 2026 · 2:00 p.m. Central Time (US & Canada)\n\n\n \n\n\nAbout\n\nTake better care of your clients by unlocking the power of a Client Needs Assessment. \nJoin us for an exclusive webinar that will empower you to enhance your insurance career and prioritize your clients like never before. Discover the secret to success by incorporating a Client Needs Assessment (CNA) into your toolkit\, ultimately boosting your ancillary sales. \nDuring this session\, we will delve into: \n– Unlocking the Power of a Successful CNA\n– Essential Information to Seek\n– Proven Sample Questions\n– Uncovering Client Needs Effectively\n– The Key Ingredients for Success\n\nSecure your spot and save the date for this invaluable information showcase. \nRegister now to transform your insurance practice!
URL:https://www.tssagents.com/event/client-needs-assessment/
LOCATION:Webinar
END:VEVENT
END:VCALENDAR